BEGIN:VCALENDAR
VERSION:2.0
PRODID:-//SyracuseArts.net
METHOD:PUBLISH
BEGIN:VEVENT
UID:20260421110400-syracusearts.net
DTSTAMP:20260421T110400Z
DTSTART:20260426T190000Z
DTEND:20260426T210000Z
SUMMARY:Women Composers Across the Centuries\nSyracuse Chamber Orchestra\n
LOCATION:Park Central Presbyterian Church, 504 E. Fayette St., Syracuse
DESCRIPTION:For complete information, visit http://syracusearts.net/calendar/event.cfm?PerfID=154783
URL;VALUE=URI:http://syracusearts.net/calendar/event.cfm?PerfID=154783
END:VEVENT
END:VCALENDAR