BEGIN:VCALENDAR
VERSION:2.0
PRODID:-//SyracuseArts.net
METHOD:PUBLISH
BEGIN:VEVENT
UID:20260421100414-syracusearts.net
DTSTAMP:20260421T100414Z
DTSTART:20260505T233000Z
DTEND:20260506T013000Z
SUMMARY:Spring Concert\nCentral New York Flute Choir\n
LOCATION:Jamesville Community Church, 6300 East Seneca Tpke (Route 173), Jamesville
DESCRIPTION:For complete information, visit http://syracusearts.net/calendar/event.cfm?PerfID=154788
URL;VALUE=URI:http://syracusearts.net/calendar/event.cfm?PerfID=154788
END:VEVENT
END:VCALENDAR