BEGIN:VCALENDAR
VERSION:2.0
PRODID:-//SyracuseArts.net
METHOD:PUBLISH
BEGIN:VEVENT
UID:20260421110410-syracusearts.net
DTSTAMP:20260421T110410Z
DTSTART:20260510T180000Z
DTEND:20260510T200000Z
SUMMARY:Spring Concert\nCentral New York Flute Choir\n
LOCATION:Mission Hope Community Church, 23 W. Genesee St., Camillus
DESCRIPTION:For complete information, visit http://syracusearts.net/calendar/event.cfm?PerfID=154789
URL;VALUE=URI:http://syracusearts.net/calendar/event.cfm?PerfID=154789
END:VEVENT
END:VCALENDAR