BEGIN:VCALENDAR
VERSION:2.0
PRODID:-//SyracuseArts.net
METHOD:PUBLISH
BEGIN:VEVENT
UID:20260421030429-syracusearts.net
DTSTAMP:20260421T030429Z
DTSTART:20260517T180000Z
DTEND:20260517T200000Z
SUMMARY:Spring Concert\nCentral New York Flute Choir\n
LOCATION:St. Matthew's Episcopal Church, 904 Vine St., Liverpool
DESCRIPTION:For complete information, visit http://syracusearts.net/calendar/event.cfm?PerfID=154790
URL;VALUE=URI:http://syracusearts.net/calendar/event.cfm?PerfID=154790
END:VEVENT
END:VCALENDAR