BEGIN:VCALENDAR
VERSION:2.0
PRODID:-//SyracuseArts.net
METHOD:PUBLISH
BEGIN:VEVENT
UID:20260421080428-syracusearts.net
DTSTAMP:20260421T080428Z
DTSTART:20260424T220000Z
DTEND:20260425T000000Z
SUMMARY:2026 Poster Unveiling\nSyracuse Poster Project\n
LOCATION:Art in the Atrium Gallery (formerly City Hall Commons), 201 East Washington St., Syracuse
DESCRIPTION:For complete information, visit http://syracusearts.net/calendar/event.cfm?PerfID=154971
URL;VALUE=URI:http://syracusearts.net/calendar/event.cfm?PerfID=154971
END:VEVENT
END:VCALENDAR