BEGIN:VCALENDAR
VERSION:2.0
PRODID:-//SyracuseArts.net
METHOD:PUBLISH
BEGIN:VEVENT
UID:20260421080418-syracusearts.net
DTSTAMP:20260421T080418Z
DTSTART:20260422T223000Z
DTEND:20260423T003000Z
SUMMARY:Snaps & Taps Open Mic Night\nCommunity Folk Art Center\n
LOCATION:Community Folk Art Center, 805 E. Genesee St., Syracuse
DESCRIPTION:For complete information, visit http://syracusearts.net/calendar/event.cfm?PerfID=154983
URL;VALUE=URI:http://syracusearts.net/calendar/event.cfm?PerfID=154983
END:VEVENT
END:VCALENDAR