BEGIN:VCALENDAR
VERSION:2.0
PRODID:-//SyracuseArts.net
METHOD:PUBLISH
BEGIN:VEVENT
UID:20260421030439-syracusearts.net
DTSTAMP:20260421T030439Z
DTSTART:20260516T233000Z
DTEND:20260517T013000Z
SUMMARY:Celil Refik Kaya, guitar\nSkaneateles Library Guitar Series\n
LOCATION:Skaneateles Library, 49 E. Genesee St., Skaneateles
DESCRIPTION:For complete information, visit http://syracusearts.net/calendar/event.cfm?PerfID=155000
URL;VALUE=URI:http://syracusearts.net/calendar/event.cfm?PerfID=155000
END:VEVENT
END:VCALENDAR