BEGIN:VCALENDAR
VERSION:2.0
PRODID:-//SyracuseArts.net
METHOD:PUBLISH
BEGIN:VEVENT
UID:20260421100440-syracusearts.net
DTSTAMP:20260421T100440Z
DTSTART:20260501T233000Z
DTEND:20260502T013000Z
SUMMARY:Echoes before Dawn: A Workshop Reading\n
LOCATION:ArtRage Gallery, 505 Hawley Ave., Syracuse
DESCRIPTION:For complete information, visit http://syracusearts.net/calendar/event.cfm?PerfID=155004
URL;VALUE=URI:http://syracusearts.net/calendar/event.cfm?PerfID=155004
END:VEVENT
END:VCALENDAR