BEGIN:VCALENDAR
VERSION:2.0
PRODID:-//SyracuseArts.net
METHOD:PUBLISH
BEGIN:VEVENT
UID:20260421100409-syracusearts.net
DTSTAMP:20260421T100409Z
DTSTART:20260502T233000Z
DTEND:20260503T013000Z
SUMMARY:Echoes before Dawn: A Workshop Reading\n
LOCATION:ArtRage Gallery, 505 Hawley Ave., Syracuse
DESCRIPTION:For complete information, visit http://syracusearts.net/calendar/event.cfm?PerfID=155005
URL;VALUE=URI:http://syracusearts.net/calendar/event.cfm?PerfID=155005
END:VEVENT
END:VCALENDAR