BEGIN:VCALENDAR
VERSION:2.0
PRODID:-//SyracuseArts.net
METHOD:PUBLISH
BEGIN:VEVENT
UID:20260421100428-syracusearts.net
DTSTAMP:20260421T100428Z
DTSTART:20260517T173000Z
DTEND:20260517T193000Z
SUMMARY:Strides Toward Democracy Film Series: Camp Syracuse\nOnondaga Historical Association\n
LOCATION:Manlius Cinema, 135 E. Seneca St., Manlius
DESCRIPTION:For complete information, visit http://syracusearts.net/calendar/event.cfm?PerfID=155008
URL;VALUE=URI:http://syracusearts.net/calendar/event.cfm?PerfID=155008
END:VEVENT
END:VCALENDAR