BEGIN:VCALENDAR
VERSION:2.0
PRODID:-//SyracuseArts.net
METHOD:PUBLISH
BEGIN:VEVENT
UID:20260421100408-syracusearts.net
DTSTAMP:20260421T100408Z
DTSTART:20260429T233000Z
DTEND:20260430T013000Z
SUMMARY:Bruce In The USA: Tribute Show\nThe Oncenter\n
LOCATION:Crouse Hinds Concert Theater, Mulroy Civic Center, 411 Montgomery St., Syracuse
DESCRIPTION:For complete information, visit http://syracusearts.net/calendar/event.cfm?PerfID=155009
URL;VALUE=URI:http://syracusearts.net/calendar/event.cfm?PerfID=155009
END:VEVENT
END:VCALENDAR