BEGIN:VCALENDAR
VERSION:2.0
PRODID:-//SyracuseArts.net
METHOD:PUBLISH
BEGIN:VEVENT
UID:20260421110427-syracusearts.net
DTSTAMP:20260421T110427Z
DTSTART:20260506T230000Z
DTEND:20260507T010000Z
SUMMARY:World Ballet Company: Cinderella\nThe Oncenter\n
LOCATION:Crouse Hinds Concert Theater, Mulroy Civic Center, 411 Montgomery St., Syracuse
DESCRIPTION:For complete information, visit http://syracusearts.net/calendar/event.cfm?PerfID=155010
URL;VALUE=URI:http://syracusearts.net/calendar/event.cfm?PerfID=155010
END:VEVENT
END:VCALENDAR