BEGIN:VCALENDAR
VERSION:2.0
PRODID:-//SyracuseArts.net
METHOD:PUBLISH
BEGIN:VEVENT
UID:20260421120446-syracusearts.net
DTSTAMP:20260421T120446Z
DTSTART:20260517T230000Z
DTEND:20260518T010000Z
SUMMARY:Nate Bargatze: Big Dumb Eyes World Tour\nThe Oncenter\n
LOCATION:War Memorial at Oncenter, 800 S. State St., Syracuse
DESCRIPTION:For complete information, visit http://syracusearts.net/calendar/event.cfm?PerfID=155011
URL;VALUE=URI:http://syracusearts.net/calendar/event.cfm?PerfID=155011
END:VEVENT
END:VCALENDAR