BEGIN:VCALENDAR
VERSION:2.0
PRODID:-//SyracuseArts.net
METHOD:PUBLISH
BEGIN:VEVENT
UID:20260421120427-syracusearts.net
DTSTAMP:20260421T120427Z
DTSTART:20260613T233000Z
DTEND:20260614T013000Z
SUMMARY:Lucy Darling: You're Welcome, with Mark Ettinger\nThe Oncenter\n
LOCATION:Crouse Hinds Concert Theater, Mulroy Civic Center, 411 Montgomery St., Syracuse
DESCRIPTION:For complete information, visit http://syracusearts.net/calendar/event.cfm?PerfID=155012
URL;VALUE=URI:http://syracusearts.net/calendar/event.cfm?PerfID=155012
END:VEVENT
END:VCALENDAR