BEGIN:VCALENDAR
VERSION:2.0
PRODID:-//SyracuseArts.net
METHOD:PUBLISH
BEGIN:VEVENT
UID:20260421120451-syracusearts.net
DTSTAMP:20260421T120451Z
DTSTART:20260616T230000Z
DTEND:20260617T010000Z
SUMMARY:Planet KPop\nThe Oncenter\n
LOCATION:Crouse Hinds Concert Theater, Mulroy Civic Center, 411 Montgomery St., Syracuse
DESCRIPTION:For complete information, visit http://syracusearts.net/calendar/event.cfm?PerfID=155013
URL;VALUE=URI:http://syracusearts.net/calendar/event.cfm?PerfID=155013
END:VEVENT
END:VCALENDAR