BEGIN:VCALENDAR
VERSION:2.0
PRODID:-//SyracuseArts.net
METHOD:PUBLISH
BEGIN:VEVENT
UID:20260421120403-syracusearts.net
DTSTAMP:20260421T120403Z
DTSTART:20260624T230000Z
DTEND:20260625T010000Z
SUMMARY:Daniel Tosh: My First Farwell Tour\nThe Oncenter\n
LOCATION:Crouse Hinds Concert Theater, Mulroy Civic Center, 411 Montgomery St., Syracuse
DESCRIPTION:For complete information, visit http://syracusearts.net/calendar/event.cfm?PerfID=155014
URL;VALUE=URI:http://syracusearts.net/calendar/event.cfm?PerfID=155014
END:VEVENT
END:VCALENDAR