BEGIN:VCALENDAR
VERSION:2.0
PRODID:-//SyracuseArts.net
METHOD:PUBLISH
BEGIN:VEVENT
UID:20260421120456-syracusearts.net
DTSTAMP:20260421T120456Z
DTSTART:20260718T000000Z
DTEND:20260718T020000Z
SUMMARY:Derek Hough: Symphony of Dance Encore\nThe Oncenter\n
LOCATION:Crouse Hinds Concert Theater, Mulroy Civic Center, 411 Montgomery St., Syracuse
DESCRIPTION:For complete information, visit http://syracusearts.net/calendar/event.cfm?PerfID=155015
URL;VALUE=URI:http://syracusearts.net/calendar/event.cfm?PerfID=155015
END:VEVENT
END:VCALENDAR