BEGIN:VCALENDAR
VERSION:2.0
PRODID:-//SyracuseArts.net
METHOD:PUBLISH
BEGIN:VEVENT
UID:20260421120429-syracusearts.net
DTSTAMP:20260421T120429Z
DTSTART:20260828T230000Z
DTEND:20260829T010000Z
SUMMARY:Killers of Kill Tony\nThe Oncenter\n
LOCATION:Crouse Hinds Concert Theater, Mulroy Civic Center, 411 Montgomery St., Syracuse
DESCRIPTION:For complete information, visit http://syracusearts.net/calendar/event.cfm?PerfID=155017
URL;VALUE=URI:http://syracusearts.net/calendar/event.cfm?PerfID=155017
END:VEVENT
END:VCALENDAR