BEGIN:VCALENDAR
VERSION:2.0
PRODID:-//SyracuseArts.net
METHOD:PUBLISH
BEGIN:VEVENT
UID:20260421120444-syracusearts.net
DTSTAMP:20260421T120444Z
DTSTART:20261008T233000Z
DTEND:20261009T013000Z
SUMMARY:Airplane! Live with Julie Hagerty and Robert Hays!\nThe Oncenter\n
LOCATION:Crouse Hinds Concert Theater, Mulroy Civic Center, 411 Montgomery St., Syracuse
DESCRIPTION:For complete information, visit http://syracusearts.net/calendar/event.cfm?PerfID=155018
URL;VALUE=URI:http://syracusearts.net/calendar/event.cfm?PerfID=155018
END:VEVENT
END:VCALENDAR