BEGIN:VCALENDAR
VERSION:2.0
PRODID:-//SyracuseArts.net
METHOD:PUBLISH
BEGIN:VEVENT
UID:20260421120431-syracusearts.net
DTSTAMP:20260421T120431Z
DTSTART:20261023T233000Z
DTEND:20261024T013000Z
SUMMARY:Bored Teachers: "Is It Friday Yet?!" Comedy Tour\nThe Oncenter\n
LOCATION:Crouse Hinds Concert Theater, Mulroy Civic Center, 411 Montgomery St., Syracuse
DESCRIPTION:For complete information, visit http://syracusearts.net/calendar/event.cfm?PerfID=155019
URL;VALUE=URI:http://syracusearts.net/calendar/event.cfm?PerfID=155019
END:VEVENT
END:VCALENDAR