BEGIN:VCALENDAR
VERSION:2.0
PRODID:-//SyracuseArts.net
METHOD:PUBLISH
BEGIN:VEVENT
UID:20260421120401-syracusearts.net
DTSTAMP:20260421T120401Z
DTSTART:20260709T233000Z
DTEND:20260710T013000Z
SUMMARY:Vince Gill: 50 Years From Home\nThe Oncenter\n
LOCATION:Crouse Hinds Concert Theater, Mulroy Civic Center, 411 Montgomery St., Syracuse
DESCRIPTION:For complete information, visit http://syracusearts.net/calendar/event.cfm?PerfID=155038
URL;VALUE=URI:http://syracusearts.net/calendar/event.cfm?PerfID=155038
END:VEVENT
END:VCALENDAR