BEGIN:VCALENDAR
VERSION:2.0
PRODID:-//SyracuseArts.net
METHOD:PUBLISH
BEGIN:VEVENT
UID:20260421120417-syracusearts.net
DTSTAMP:20260421T120417Z
DTSTART:20260926T230000Z
DTEND:20260927T010000Z
SUMMARY:Justin Willman: One For The Ages Tour\nThe Oncenter\n
LOCATION:Crouse Hinds Concert Theater, Mulroy Civic Center, 411 Montgomery St., Syracuse
DESCRIPTION:For complete information, visit http://syracusearts.net/calendar/event.cfm?PerfID=155040
URL;VALUE=URI:http://syracusearts.net/calendar/event.cfm?PerfID=155040
END:VEVENT
END:VCALENDAR