BEGIN:VCALENDAR
VERSION:2.0
PRODID:-//SyracuseArts.net
METHOD:PUBLISH
BEGIN:VEVENT
UID:20260421110434-syracusearts.net
DTSTAMP:20260421T110434Z
DTSTART:20260508T150000Z
DTEND:20260508T210000Z
SUMMARY:Feats of Clay\nEverson Museum of Art\n
LOCATION:Everson Museum of Art, 401 Harrison St., Syracuse
DESCRIPTION:For complete information, visit http://syracusearts.net/calendar/event.cfm?PerfID=155063
URL;VALUE=URI:http://syracusearts.net/calendar/event.cfm?PerfID=155063
END:VEVENT
END:VCALENDAR