BEGIN:VCALENDAR
VERSION:2.0
PRODID:-//SyracuseArts.net
METHOD:PUBLISH
BEGIN:VEVENT
UID:20260421080450-syracusearts.net
DTSTAMP:20260421T080450Z
DTSTART:20260426T140000Z
DTEND:20260426T210000Z
SUMMARY:A Long Look: Documentary Photography, 1888-2016\nEverson Museum of Art\n
LOCATION:Everson Museum of Art, 401 Harrison St., Syracuse
DESCRIPTION:For complete information, visit http://syracusearts.net/calendar/event.cfm?PerfID=155072
URL;VALUE=URI:http://syracusearts.net/calendar/event.cfm?PerfID=155072
END:VEVENT
END:VCALENDAR