BEGIN:VCALENDAR
VERSION:2.0
PRODID:-//SyracuseArts.net
METHOD:PUBLISH
BEGIN:VEVENT
UID:20260421100401-syracusearts.net
DTSTAMP:20260421T100401Z
DTSTART:20260430T150000Z
DTEND:20260501T000000Z
SUMMARY:A Long Look: Documentary Photography, 1888-2016\nEverson Museum of Art\n
LOCATION:Everson Museum of Art, 401 Harrison St., Syracuse
DESCRIPTION:For complete information, visit http://syracusearts.net/calendar/event.cfm?PerfID=155074
URL;VALUE=URI:http://syracusearts.net/calendar/event.cfm?PerfID=155074
END:VEVENT
END:VCALENDAR